BEGIN:VCALENDAR
VERSION:2.0
PRODID:-//Tukios.com/
BEGIN:VEVENT
UID:92303c8a-958f-4161-91ef-aba6c6e8e615@www.holmfuneralhome.com
DTSTAMP:20260422T101450Z
DTSTART:20260516T180000Z
DTEND:20260516T210000Z
SUMMARY:Celebration of Life
DESCRIPTION:
URL:https://www.holmfuneralhome.com/obituaries/neal-bowman
LOCATION:Lake Belva Deer Park Shelter #2 19366 242nd Ave  Sigourney IA 
	52591
GEO:41.3758365;-92.1361231
END:VEVENT
END:VCALENDAR