BEGIN:VCALENDAR
VERSION:2.0
PRODID:-//Tukios.com/
BEGIN:VEVENT
UID:61347b8d-fbe1-41d4-88f2-1c5be5edca73@www.holmfuneralhome.com
DTSTAMP:20260421T015209Z
DTSTART:20260423T153000Z
DTEND:20260423T163000Z
SUMMARY:Funeral Service
DESCRIPTION:
URL:https://www.holmfuneralhome.com/obituaries/joanne-hauschild
LOCATION:Be The Light Ministry 200 Kramer St.  Sigourney IA 52591
GEO:41.3439605;-92.2101842
END:VEVENT
END:VCALENDAR