BEGIN:VCALENDAR
VERSION:2.0
PRODID:-//Tukios.com/
BEGIN:VEVENT
UID:91e81866-d4ac-4747-b53a-4b7ff0b1d745@www.holmfuneralhome.com
DTSTAMP:20260421T014618Z
DTSTART:20260422T210000Z
DTEND:20260423T000000Z
SUMMARY:Visitation
DESCRIPTION:
URL:https://www.holmfuneralhome.com/obituaries/joanne-hauschild
LOCATION: 320 N. Shuffleton St.  Sigourney IA 52591
GEO:41.3364021;-92.2031067
END:VEVENT
END:VCALENDAR